BEGIN:VCALENDAR
VERSION:2.0
PRODID:-//eventon.com NONSGML v1.0//EN
CALSCALE:GREGORIAN
METHOD:PUBLISH
BEGIN:VEVENT
UID:69e51008714a5
DTSTAMP:20260419T172528Z
DTSTART:20261021T120000Z
DTEND:20261021T210000Z
LOCATION:Grappone Center 70 Constitution Avenue
SUMMARY:NHWWA 2026 Drinking Water Expo & Trade Show
DESCRIPTION:Tata &amp; Howard is exhibiting at the NHWWA Drinking Water Exp
 o and Trade Show! This annual event offers attendees the opportunity to ear
 n from 1 to 5 TCH’s. Ten sessions are held two-at-a time in large seminar
  rooms with seating at round tables. The Expo provides attendees an opportu
 nity to[..]\nhttps://tataandhoward.com/events/nhwwa-drinking-water-expo-tra
 de-show/
URL:https://tataandhoward.com/events/nhwwa-drinking-water-expo-trade-show/
END:VEVENT
END:VCALENDAR