BEGIN:VCALENDAR
VERSION:2.0
PRODID:-//eventon.com NONSGML v1.0//EN
CALSCALE:GREGORIAN
METHOD:PUBLISH
BEGIN:VEVENT
UID:69e50f9e9ad4b
DTSTAMP:20260419T172342Z
DTSTART:20261208T180000Z
DTEND:20261210T164500Z
LOCATION:Cross Insurance Center 515 Main Street
SUMMARY:Maine RWA 2026 Annual Conference & Trade Show
DESCRIPTION:Tata &amp; Howard is exhibiting at the Maine Rural Water Associ
 ation (RWA) 46th Annual Conference and Trade Show. Stop by our booth to tal
 k all things water and wastewater or just to say hi!\nhttps://tataandhoward
 .com/events/maine-rwa-annual-conference-trade-show/
URL:https://tataandhoward.com/events/maine-rwa-annual-conference-trade-show/
END:VEVENT
END:VCALENDAR